BEGIN:VCALENDAR
VERSION:1.0
PRODID:-//Microsoft Corporation//Outlook 9.0 MIMEDIR//EN
BEGIN:VEVENT
DTSTART;VALUE=DATE-TIME:20260422T223000
DTEND;VALUE=DATE-TIME:
SUMMARY:PROFESSIONAL SERVICES NETWORK HORNSBY
DESCRIPTION:At the Professional Services Network Hornsby, you will:
-Connect with like minded professionals
-Discover proven approaches and techniques for growth
-Practise your Pitch each attendee presents a 2 minute pitch

LOCATION:
END:VEVENT
END:VCALENDAR

